Workbook
Name BAA_ID: resources!$E$2:$E$1733
Name bool: misc!$B$2:$B$3
Name cam_d1911016_vamo_pcia: misc!$R$2:$R$5
Name cap_areas: misc!$G$2:$G$51
Name cap_sub_areas: misc!$H$2:$H$31
Name contract_status: misc!$A$2:$A$6
Name csp_cat: misc!$N$2:$N$30
Name csp_table: CSPReportSheet!$B$4:$H$38
Name d1911016_tranches: misc!$J$2:$J$9
Name d2106035_tranche: misc!$K$2:$K$23
Name Days: misc!$E$3:$E$33
Name Days_na: misc!$E$2:$E$33
Name elcc_type: resources!$G$2:$G$1733
Name energy_capacity_from_resource: misc!$L$2:$L$4
Name generator_name: resources!$B$2:$B$1733
Name int_count: misc!$E$2:$E$33
Name IQ_CH: 110000
Name IQ_CQ: 5000
Name IQ_CY: 10000
Name IQ_DAILY: 500000
Name IQ_FH: 100000
Name IQ_FQ: 500
Name IQ_FY: 1000
Name IQ_LTM: 2000
Name IQ_MONTH: 15000
Name IQ_NTM: 6000
Name IQ_WEEK: 50000
Name IQ_YTD: 3000
Name is_hybrid: misc!$M$2:$M$22
Name MAXGEN: resources!$C$2:$C$1733
Name Months: misc!$E$3:$E$14
Name Months_na: misc!$E$2:$E$14
Name nqc_reporting_source: misc!$Q$2:$Q$3
Name resolve_final_group: resources!$D$2:$D$1733
Name resources: resources!$A$2:$A$1733
Name solar_Technology_sub_type: misc!$O$2:$O$5
Name state_county: misc!$I$2:$I$76
Name storage_technology_sub_type: misc!$P$2:$P$5
Name supertype: resources!$F$2:$F$1733
Name transact: misc!$F$2:$F$4
Name Year: misc!$D$3:$D$93
Name Year_na: misc!$D$2:$D$93
Name yes_no: misc!$C$2:$C$4

Sheet README
A1: ReleaseVersion | B1: rdtv3
A2: ReleaseDate | B2: 44827
D4: In order to run the macro, LSEs must FIRST enable macros. Then, they are instructed to complete the RDT data entry fully, then push the button on the README tab.

Sheet ReleaseNotes
A1: ReleaseVersion | B1: ReleaseDate | C1: ID | D1: Note
A2: RDTv3 beta | B2: 44718
A3: RDTv3 Release | B3: 44727
A4: RDTv3 Updated | B4: 44732 | D4: Minor updates in columns' names
A5: RDTv3 Updated | B5: 44757 | D5: Reliability tabs updates & some minor updates to the resource tab
A6: RDTv3 Updated | B6: 44771 | D6: 1)"misc" tab: updated with all ELCC % values and added MRN/TRN ratios 2)“Reliability” tab: added formulas to pull MRN/TRN ratios from the “misc” worksheet; updated formatting for cells H23:J50 and L23:P50 (previously greyed out since results weren’t available for those years) 3)“Calcs” tab: updated formulas in columns S:T so that battery contracts with durations greater than or equal to 9 hours will get “8hr_batteries” ELCC%; updated formulas in columns S:T and added formulas in column Y so that battery contracts with durations less than 4 hours will get (“4hr_batteries” ELCC%) * (contract duration) / 4hr
A7: RDTv3 Updated | B7: 44796 | D7: 1)"resources" tab: updated to include several new resource IDs, remove duplicates, adjust how baseline hybrid/paired resources are characterized, and update some project-specific information 2) "btm_pv_forecast" tab: Added an additional LSE 3)“ReportSheet” tab: new macro generated error flag, Rows with invalid buying_energy_capacity and csp_resource_category; flags contracts with non-storage CSP resources is marked as CapacityOnly and is marked as CSP. 4)“ReportSheet” tab: summation now includes contracts that ara both "Buy" and "Owned"
A8: RDTv3 Updated | B8: 44827 | D8: 1) corrects made to macro 2) fixes the ELCC type issues for a few generic resources

Sheet unique_contracts
A1: lse_unique_contract_id | B1: resource | C1: alternative_resource_name | D1: contract_status | E1: project_interconnection_position | F1: interconnection_substation | G1: marginal_addition | H1: marginal_addition_to | I1: total_nameplate_capacity | J1: contracted_nameplate_capacity | K1: sep_contracted_mw_nqc | L1: contract_gwh_annual | M1: is_hybrid_paired | N1: can_charge_from_grid | O1: total_generator_mw | P1: contracted_generator_mw | Q1: total_storage_mw | R1: contracted_storage_mw | S1: solar_technology_sub_type | T1: storage_technology_sub_type | U1: total_storage_depth_mwh | V1: contracted_storage_depth_mwh | W1: viability_cod_reasonableness | X1: viability_technical_feasibility | Y1: viability_financing_sitecontrol | Z1: resource_mix | AA1: cam_d1911016_vamo_ghgfreepcia | AB1: buy_sell_own | AC1: counterparty | AD1: generator_supplier | AE1: developer_name | AF1: capacity_area | AG1: capacity_sub_area | AH1: cpuc_approval_ref | AI1: county | AJ1: COD_year | AK1: COD_month | AL1: COD_day | AM1: contract_start_date_year | AN1: contract_start_date_month | AO1: contract_start_date_day | AP1: contract_end_date_year | AQ1: contract_end_date_month | AR1: contract_end_date_day | AS1: contract_execution_date_year | AT1: contract_execution_date_month | AU1: contract_execution_date_day | AV1: tx_upgrades | AW1: tx_upgrade_date_year | AX1: tx_upgrade_date_month | AY1: tx_upgrade_date_day | AZ1: tx_upgrade_description | BA1: d1911016_tranche | BB1: d2106035_procurement_cat | BC1: mtr_tranche1_NQC | BD1: mtr_tranche2_NQC | BE1: mtr_tranche3_NQC | BF1: mtr_tranche4_NQC_LDES | BG1: mtr_tranche4_NQC_firm_ZE | BH1: mtr_NQC_ZE_gen_paired_dr | BI1: previous_COD_year | BJ1: previous_COD_month | BK1: previous_COD_day | BL1: remediation_plan | BM1: signed_contract | BN1: notice_to_proceed | BO1: public_contract | BP1: buying_energy_capacity | BQ1: NQC_reporting_source | BR1: procurement_origin | BS1: csp_resource_category | BT1: csp_annual_2024 | BU1: csp_annual_2026 | BV1: csp_annual_2030 | BW1: csp_annual_2035 | BX1: macro_supertype | BY1: notes
A2: VCEA40001 | B2: INDVLY_1_UNITS | C2: Indian Valley Hydro Project | D2: Online | G2: NO | I2: 2.9 | J2: 2.9 | K2: 1.9 | L2: 6.448 | M2: NotHybrid | AF2: NorthCoastNorthBay | AJ2: 2020 | AK2: 1 | AL2: 1 | AM2: 2020 | AN2: 6 | AO2: 1 | AP2: 2025 | AQ2: 5 | AR2: 31 | AS2: 2020 | AT2: 5 | AU2: 22 | AV2: NA | BM2: YES | BO2: NO | BP2: EnergyCapacity | BQ2: Calculated | BS2: Small Hydro (GWh) | BT2: 6.448 | BU2: 0 | BV2: 0 | BW2: 0 | BX2: physical
A3: VCEA50005 | B3: PUTHCR_1_SOLAR1 | C3: Putah Creek Energy Farm | D3: Development | F3: Putah Creek Circuit #1105 | G3: NO | I3: 3 | J3: 3 | K3: 3 | L3: 6.649 | M3: NewSolarNewStorage | N3: NO | O3: 3 | P3: 3 | Q3: 3 | R3: 3 | S3: 1Axis | T3: Li | U3: 12 | V3: 12 | W3: 4 | X3: 3 | Y3: 5 | AF3: PacGE | AG3: No_sub_area | AI3: YoloCounty | AJ3: 2022 | AK3: 8 | AL3: 8 | AM3: 2022 | AN3: 7 | AO3: 16 | AP3: 2042 | AQ3: 7 | AR3: 5 | AS3: 2020 | AT3: 11 | AU3: 13 | AV3: NA | BI3: 2021 | BJ3: 10 | BK3: 15 | BM3: YES | BO3: NO | BP3: EnergyCapacity | BQ3: Calculated | BS3: Hybrid_or_Paired_Solar_and_Battery (GWh) | BT3: 7.3 | BU3: 7.2 | BV3: 7 | BW3: 6.8 | BX3: physical | BY3: Volumes adjusted for storage roundtrip losses
A4: VCEA50004 | B4: _NEW_GENERIC_SOLAR_1AXIS | C4: Gibson Solar | D4: Development | F4: WOODLD_1_B1 | G4: NO | I4: 20 | J4: 20 | K4: 6.5 | L4: 50.902 | M4: NewSolarNewStorage | N4: NO | O4: 20 | P4: 20 | Q4: 6.5 | R4: 6.5 | S4: 1Axis | T4: Li | U4: 26 | V4: 26 | W4: 1 | X4: 2 | Y4: 2 | AF4: PacGE | AG4: No_sub_area | AI4: YoloCounty | AJ4: 2024 | AK4: 6 | AL4: 1 | AM4: 2024 | AN4: 6 | AO4: 1 | AP4: 2044 | AQ4: 5 | AR4: 31 | AS4: 2020 | AT4: 11 | AU4: 13 | AV4: YES | BI4: 2023 | BJ4: 3 | BK4: 31 | BM4: YES | BO4: NO | BP4: EnergyCapacity | BQ4: Calculated | BS4: Hybrid_or_Paired_Solar_and_Battery (GWh) | BT4: 53 | BU4: 52 | BV4: 51 | BW4: 50 | BX4: newgeneric | BY4: Volumes adjusted for storage roundtrip losses
A5: VCEA50007 | B5: _NEW_GENERIC_SOLAR_1AXIS | C5: Willow Springs Solar 3 or Willy 9 Chap 2 | D5: Development | F5: WIRLWIND_2_B1 | G5: NO | I5: 72 | J5: 72 | K5: 36 | L5: 212.463 | M5: NewSolarNewStorage | N5: NO | O5: 72 | P5: 72 | Q5: 36 | R5: 36 | S5: 1Axis | T5: Li | U5: 144 | V5: 144 | W5: 4 | X5: 3 | Y5: 5 | AF5: SCE | AI5: KernCounty | AJ5: 2023 | AK5: 12 | AL5: 31 | AM5: 2023 | AN5: 12 | AO5: 31 | AP5: 2038 | AQ5: 12 | AR5: 30 | AS5: 2021 | AT5: 10 | AU5: 15 | AV5: YES | BM5: YES | BO5: NO | BP5: EnergyCapacity | BQ5: Calculated | BS5: Hybrid_or_Paired_Solar_and_Battery (GWh) | BT5: 209 | BU5: 207 | BV5: 205 | BW5: 202 | BX5: newgeneric | BY5: New Resource Name from CAISO: Willy 9 Chap 2; Volumes adjusted for storage roundtrip losses
A6: VCEA50002 | B6: AQUAWS_2_AQWSR1 | C6: Aquamarine Westside | D6: Online | E6: 1117 | F6: Gate 230 KV PG&E Substation | G6: NO | I6: 250 | J6: 50 | K6: 7 | L6: 130 | M6: NotHybrid | AA6: D.19-11-016 | AC6: non-LSE supplier | AE6: NA | AF6: PacGE | AI6: KingsCounty | AJ6: 2021 | AK6: 9 | AL6: 22 | AM6: 2021 | AN6: 9 | AO6: 22 | AP6: 2036 | AQ6: 9 | AR6: 21 | AS6: 2020 | AT6: 2 | AU6: 14 | AV6: NA | BA6: 2&3 | BI6: 2021 | BJ6: 9 | BK6: 24 | BL6: NA | BM6: YES | BN6: YES | BO6: YES, but aspects of contract are confidential | BP6: EnergyCapacity | BQ6: Calculated | BR6: D1911016 | BS6: Solar Existing California (GWh) | BT6: 130 | BU6: 127 | BV6: 121 | BW6: 114 | BX6: physical
A7: VESI10LLC | B7: _NEW_GENERIC_BATTERY_STORAGE | C7: Tierra Buena | D7: Online | E7: 2694-WD | F7: PG&E 12.47 kV Distribution | G7: NO | I7: 2.5 | J7: 2.5 | K7: 2.5 | L7: 0 | M7: NotHybrid | T7: Li | U7: 10 | V7: 10 | AA7: D.19-11-016 | AC7: non-LSE supplier | AE7: NA | AF7: Sierra | AG7: Sierra Pease | AI7: SutterCounty | AJ7: 2022 | AK7: 6 | AL7: 3 | AM7: 2022 | AN7: 6 | AO7: 3 | AP7: 2032 | AQ7: 6 | AR7: 2 | AS7: 2020 | AT7: 9 | AU7: 11 | AV7: NA | BA7: 2 | BI7: 2022 | BJ7: 6 | BK7: 1 | BL7: NA | BM7: YES | BN7: YES | BO7: YES, but aspects of contract are confidential | BP7: CapacityOnly | BQ7: In the contract | BR7: D1911016 | BS7: NA | BX7: newgeneric | BY7: Resource ID: PEASE_1_TBEBT1
A8: Leapfrog | B8: _EXISTING_GENERIC_DR | C8: Leapfrog Demand Reponse RA | D8: Online | G8: NO | I8: 7 | J8: 7 | K8: 7 | L8: 0 | M8: NotHybrid | AA8: D.19-11-016 | AC8: non-LSE supplier | AE8: NA | AF8: PacGE | AI8: California | AJ8: 2021 | AK8: 6 | AL8: 1 | AM8: 2021 | AN8: 6 | AO8: 1 | AP8: 2031 | AQ8: 5 | AR8: 31 | AS8: 2020 | AT8: 9 | AU8: 11 | AV8: NA | BA8: 1 | BI8: 2021 | BJ8: 6 | BK8: 1 | BL8: NA | BM8: YES | BN8: YES | BO8: YES, but aspects of contract are confidential | BP8: EnergyCapacity | BQ8: In the contract | BR8: D1911016 | BS8: Shed DR (MW) | BT8: 7 | BU8: 7 | BV8: 7 | BW8: 0 | BX8: existinggeneric
A9: VCEA50006_MTR_Tranche_1 | B9: _NEW_GENERIC_SOLAR_1AXIS | C9: Resurgence Solar | D9: Development | E9: repower project, no queue position | G9: NO | I9: 90 | J9: 90 | K9: 63.06 | L9: 265 | M9: NewSolarNewStorage | N9: NO | O9: 90 | P9: 90 | Q9: 75 | R9: 75 | S9: 1Axis | T9: Li | U9: 300 | V9: 300 | W9: 4 | X9: 2 | Y9: 5 | AC9: non-LSE supplier | AE9: NextEra Energy Capital Holdings, Inc. | AF9: SCE | AI9: SanBernardinoCounty | AJ9: 2023 | AK9: 5 | AL9: 15 | AM9: 2023 | AN9: 5 | AO9: 15 | AP9: 2043 | AQ9: 5 | AR9: 14 | AS9: 2021 | AT9: 1 | AU9: 21 | AV9: YES | AW9: 2022 | AX9: 11 | AY9: 15 | AZ9: SCE Facility Upgrade | BB9: general_&_ZE_gen_paired_dr | BC9: 44.03 | BD9: 24.66 | BE9: 6.85 | BH9: 57.8 | BM9: YES | BO9: YES, but aspects of contract are confidential | BP9: EnergyCapacity | BQ9: Calculated | BR9: D2106035 | BS9: Hybrid_or_Paired_Solar_and_Battery (GWh) | BT9: 250 | BU9: 248 | BV9: 242 | BW9: 236 | BX9: newgeneric | BY9: Volumes adjusted for storage roundtrip losses
A10: Tumbleweed_2026-2041 | B10: _NEW_GENERIC_BATTERY_STORAGE | C10: CC Power Tumbleweed | D10: Development | E10: Q-1217 | F10: N/A | G10: NO | I10: 69 | J10: 2.86 | K10: 2.86 | L10: 0 | M10: NotHybrid | T10: Li | U10: 552 | V10: 22.88 | W10: 4 | X10: 3 | Y10: 5 | AC10: non-LSE supplier | AE10: LS Power | AF10: SCE | AI10: KernCounty | AJ10: 2026 | AK10: 6 | AL10: 1 | AM10: 2026 | AN10: 6 | AO10: 1 | AP10: 2041 | AQ10: 5 | AR10: 31 | AS10: 2022 | AT10: 4 | AU10: 19 | AV10: YES | AW10: 2025 | AX10: 12 | AY10: 31 | AZ10: SCE Facility Upgrade | BB10: long_duration_storage | BF10: 2.24 | BM10: YES | BO10: YES, but aspects of contract are confidential | BP10: EnergyCapacity | BQ10: Calculated | BR10: D2106035 | BS10: Battery Storage (MWh Energy Capacity) | BT10: 22.88 | BU10: 22.88 | BV10: 22.88 | BW10: 22.88 | BX10: newgeneric
A11: Goal Line_2025-2040 | B11: _NEW_GENERIC_BATTERY_STORAGE | C11: CC Power Goal Line | D11: Development | E11: 1832 | G11: NO | I11: 50 | J11: 2.25 | K11: 2.25 | L11: 0 | M11: NotHybrid | T11: Li | U11: 400 | V11: 18 | W11: 3 | X11: 3 | Y11: 2 | AC11: non-LSE supplier | AE11: Onward Energy | AF11: SDGE | AI11: SanDiegoCounty | AJ11: 2025 | AK11: 6 | AL11: 1 | AM11: 2025 | AN11: 6 | AO11: 1 | AP11: 2040 | AQ11: 5 | AR11: 31 | AS11: 2022 | AT11: 5 | AU11: 18 | AV11: NA | BB11: long_duration_storage | BF11: 1.76 | BM11: YES | BO11: YES, but aspects of contract are confidential | BP11: EnergyCapacity | BQ11: Calculated | BR11: D2106035 | BS11: Battery Storage (MWh Energy Capacity) | BT11: 18 | BU11: 18 | BV11: 18 | BW11: 18 | BX11: newgeneric
A12: 20220531_CCPower_OME_FishLake_Geo_VCE​ | B12: _NEW_GENERIC_GEOTHERMAL | C12: Fish Lake Geothermal | D12: Development | E12: geothermal_import_planned | F12: NV Energy Silver Peak / CAISO delivery at MONAIPPDC_ITC | G12: NA | I12: 13 | J12: 0.416 | K12: 0.36187604 | L12: 3.5098762 | W12: 3 | X12: 3 | Y12: 4 | AB12: Buy | AC12: non-LSE supplier | AD12: Open_Mountain_Energy | AE12: Open_Mountain_Energy | AF12: NEVP | AI12: Nevada | AJ12: 2024 | AK12: 6 | AL12: 1 | AM12: 2024 | AN12: 6 | AO12: 1 | AP12: 2044 | AQ12: 5 | AR12: 31 | AS12: 2022 | AT12: 5 | AU12: 31 | AV12: NO | BA12: NA | BB12: firm_ZE | BG12: 0.36187604 | BM12: YES | BO12: YES | BP12: EnergyCapacity | BQ12: Calculated | BR12: D2106035 | BS12: Geothermal (GWh) | BT12: 1.9877641 | BU12: 3.5098762 | BV12: 3.5098762 | BW12: 3.5098762 | BX12: newgeneric | BY12: Represents share of CC Power contract for MTR
A13: 20220531_CCPower_Ormat_Portfolio_Geo_Project1_VCE​ | B13: _NEW_GENERIC_GEOTHERMAL | C13: Ormat Portfolio | D13: Development | E13: geothermal_import_planned | F13: NV Energy Indian Springs Switching Station 120 kV / CAISO delivery at MEAD_ITC, MERCHANT_ITC, SUMMIT_ITC, or GONDIPPDC_ITC | G13: NA | I13: 16.666667 | J13: 0.61666667 | K13: 0.55149578 | L13: 5.2918578 | W13: 2 | X13: 2 | Y13: 4 | AB13: Buy | AC13: non-LSE supplier | AD13: Ormat | AE13: Ormat | AF13: NEVP | AI13: Nevada | AJ13: 2024 | AK13: 10 | AL13: 1 | AM13: 2024 | AN13: 10 | AO13: 1 | AP13: 2044 | AQ13: 9 | AR13: 30 | AS13: 2022 | AT13: 5 | AU13: 31 | AV13: NO | BA13: NA | BB13: firm_ZE | BG13: 0.55149578 | BM13: YES | BO13: YES | BP13: EnergyCapacity | BQ13: Calculated | BR13: D2106035 | BS13: Geothermal (GWh) | BT13: 1.4782329 | BU13: 5.2918578 | BV13: 5.2918578 | BW13: 5.2918578 | BX13: newgeneric | BY13: Represents share of CC Power contract for MTR; representing candidate project in portfolio (not yet finalized and subject to flux); supplier indicating likely delay; dependent on MIC
A14: 20220531_CCPower_Ormat_Portfolio_Geo_Project2_VCE​ | B14: _NEW_GENERIC_GEOTHERMAL | C14: Ormat Portfolio | D14: Development | E14: geothermal_import_planned | F14: NV Energy Millers Substation 120 kV / CAISO delivery at MEAD_ITC, MERCHANT_ITC, SUMMIT_ITC, or GONDIPPDC_ITC | G14: NA | I14: 20.833333 | J14: 0.77083333 | K14: 0.6290852 | L14: 6.5983244 | W14: 2 | X14: 2 | Y14: 4 | AB14: Buy | AC14: non-LSE supplier | AD14: Ormat | AE14: Ormat | AF14: NEVP | AI14: Nevada | AJ14: 2025 | AK14: 1 | AL14: 1 | AM14: 2025 | AN14: 1 | AO14: 1 | AP14: 2044 | AQ14: 9 | AR14: 30 | AS14: 2022 | AT14: 5 | AU14: 31 | AV14: NO | BA14: NA | BB14: firm_ZE | BG14: 0.6290852 | BM14: YES | BO14: YES | BP14: EnergyCapacity | BQ14: Calculated | BR14: D2106035 | BS14: Geothermal (GWh) | BT14: 0 | BU14: 6.5983244 | BV14: 6.5983244 | BW14: 6.5983244 | BX14: newgeneric | BY14: Represents share of CC Power contract for MTR; representing candidate project in portfolio (not yet finalized and subject to flux); supplier indicating likely delay; dependent on MIC
A15: 20220531_CCPower_Ormat_Portfolio_Geo_Project3_VCE​ | B15: _NEW_GENERIC_GEOTHERMAL | C15: Ormat Portfolio | D15: Development | E15: geothermal_import_planned | F15: NV Energy Millers Substation 120 kV / CAISO delivery at MEAD_ITC, MERCHANT_ITC, SUMMIT_ITC, or GONDIPPDC_ITC | G15: NA | I15: 16.666667 | J15: 0.61666667 | K15: 0.42648667 | L15: 5.3015117 | W15: 2 | X15: 2 | Y15: 4 | AB15: Buy | AC15: non-LSE supplier | AD15: Ormat | AE15: Ormat | AF15: NEVP | AI15: Nevada | AJ15: 2025 | AK15: 6 | AL15: 1 | AM15: 2025 | AN15: 6 | AO15: 1 | AP15: 2044 | AQ15: 9 | AR15: 30 | AS15: 2022 | AT15: 5 | AU15: 31 | AV15: NO | BA15: NA | BB15: firm_ZE | BG15: 0.42648667 | BM15: YES | BO15: YES | BP15: EnergyCapacity | BQ15: Calculated | BR15: D2106035 | BS15: Geothermal (GWh) | BT15: 0 | BU15: 5.3015117 | BV15: 5.3015117 | BW15: 5.3015117 | BX15: newgeneric | BY15: Represents share of CC Power contract for MTR; representing candidate project in portfolio (not yet finalized and subject to flux); supplier indicating likely delay; dependent on MIC
A16: 20220531_CCPower_Ormat_Portfolio_Geo_Project4_VCE​ | B16: _NEW_GENERIC_GEOTHERMAL | C16: Ormat Portfolio | D16: Development | E16: geothermal_import_planned | F16: IID New Seaside SS 161 kV ("L" line) / CAISO delivery at IID-SDGE_ITC | G16: NA | I16: 16.666667 | J16: 0.61666667 | K16: 0.51021535 | L16: 5.3076948 | W16: 2 | X16: 2 | Y16: 4 | AB16: Buy | AC16: non-LSE supplier | AD16: Ormat | AE16: Ormat | AF16: IID | AI16: Imperial | AJ16: 2025 | AK16: 9 | AL16: 1 | AM16: 2025 | AN16: 9 | AO16: 1 | AP16: 2044 | AQ16: 9 | AR16: 30 | AS16: 2022 | AT16: 5 | AU16: 31 | AV16: NO | BA16: NA | BB16: firm_ZE | BG16: 0.51021535 | BM16: YES | BO16: YES | BP16: EnergyCapacity | BQ16: Calculated | BR16: D2106035 | BS16: Geothermal (GWh) | BT16: 0 | BU16: 5.3076948 | BV16: 5.3076948 | BW16: 5.3076948 | BX16: newgeneric | BY16: Represents share of CC Power contract for MTR; representing candidate project in portfolio (not yet finalized and subject to flux); supplier indicating likely delay; dependent on MIC
A17: 20220531_CCPower_Ormat_Portfolio_Geo_Project5_VCE​ | B17: _NEW_GENERIC_GEOTHERMAL | C17: Ormat Portfolio | D17: Development | E17: geothermal_import_planned | F17: IID New Seaside SS 161 kV ("L" line) / CAISO delivery at IID-SDGE_ITC | G17: NA | I17: 16.666667 | J17: 0.61666667 | K17: 0.51021535 | L17: 5.3076948 | W17: 2 | X17: 2 | Y17: 4 | AB17: Buy | AC17: non-LSE supplier | AD17: Ormat | AE17: Ormat | AF17: IID | AI17: Imperial | AJ17: 2025 | AK17: 10 | AL17: 1 | AM17: 2025 | AN17: 10 | AO17: 1 | AP17: 2044 | AQ17: 9 | AR17: 30 | AS17: 2022 | AT17: 5 | AU17: 31 | AV17: NO | BA17: NA | BB17: firm_ZE | BG17: 0.51021535 | BM17: YES | BO17: YES | BP17: EnergyCapacity | BQ17: Calculated | BR17: D2106035 | BS17: Geothermal (GWh) | BT17: 0 | BU17: 5.3076948 | BV17: 5.3076948 | BW17: 5.3076948 | BX17: newgeneric | BY17: Represents share of CC Power contract for MTR; representing candidate project in portfolio (not yet finalized and subject to flux); supplier indicating likely delay; dependent on MIC
A18: 20220531_CCPower_Ormat_Portfolio_Geo_Project6_VCE​ | B18: _NEW_GENERIC_GEOTHERMAL | C18: Ormat Portfolio | D18: Development | E18: geothermal_import_planned | F18: IID 92kV 'PW' Line Between El Centro and Pruett Sub / CAISO delivery at IID-SDGE_ITC or IID-SCE_ITC | G18: NA | I18: 16.666667 | J18: 0.61666667 | K18: 0.52899121 | L18: 5.2965152 | W18: 2 | X18: 2 | Y18: 4 | AB18: Buy | AC18: non-LSE supplier | AD18: Ormat | AE18: Ormat | AF18: IID | AI18: Imperial | AJ18: 2026 | AK18: 1 | AL18: 1 | AM18: 2026 | AN18: 1 | AO18: 1 | AP18: 2044 | AQ18: 9 | AR18: 30 | AS18: 2022 | AT18: 5 | AU18: 31 | AV18: NO | BA18: NA | BB18: firm_ZE | BG18: 0.52899121 | BM18: YES | BO18: YES | BP18: EnergyCapacity | BQ18: Calculated | BR18: D2106035 | BS18: Geothermal (GWh) | BT18: 0 | BU18: 5.2965152 | BV18: 5.2965152 | BW18: 5.2965152 | BX18: newgeneric | BY18: Represents share of CC Power contract for MTR; representing candidate project in portfolio (not yet finalized and subject to flux); supplier indicating likely delay; dependent on MIC
A19: 20220531_CCPower_Ormat_Portfolio_Geo_Project7_VCE​ | B19: _CREZ_GENERIC_SOLANO_GEOTHERMAL | C19: Ormat Portfolio | D19: Development | E19: 1859 | F19: Geysers #3- Cloverdale 115 kV | G19: NA | I19: 20.833333 | J19: 0.77083333 | K19: 0.6531533 | L19: 6.6550488 | W19: 2 | X19: 2 | Y19: 4 | AB19: Buy | AC19: non-LSE supplier | AD19: Ormat | AE19: Ormat | AF19: PacGE | AI19: SonomaCounty | AJ19: 2026 | AK19: 12 | AL19: 1 | AM19: 2026 | AN19: 12 | AO19: 1 | AP19: 2044 | AQ19: 9 | AR19: 30 | AS19: 2022 | AT19: 5 | AU19: 31 | AV19: YES | AW19: 2029 | AX19: 1 | AY19: 1 | AZ19: Cluter 14 Network Upgrade | BA19: NA | BB19: firm_ZE | BG19: 0.6531533 | BM19: YES | BO19: YES | BP19: EnergyCapacity | BQ19: Calculated | BR19: D2106035 | BS19: Geothermal (GWh) | BT19: 0 | BU19: 0.64134889 | BV19: 6.6550488 | BW19: 6.6550488 | BX19: newresolve | BY19: Represents share of CC Power contract for MTR; representing candidate project in portfolio (not yet finalized and subject to flux); supplier indicating likely delay; dependent on MIC
A20: VCEA_IRP2022_N_CA_wind_26 | B20: _CREZ_GENERIC_NORTHERN_CALIFORNIA_EX_WIND | C20: VCEA_IRP2022_N_CA_wind_26 | D20: PlannedNew | G20: NO | J20: 20 | K20: 6 | L20: 51.4 | M20: NotHybrid | W20: 1 | X20: 2 | Y20: 1 | AF20: PacGE | AJ20: 2026 | AK20: 1 | AL20: 1 | AM20: 2026 | AN20: 1 | AO20: 1 | AP20: 2050 | AQ20: 12 | AR20: 31 | AS20: 2026 | AT20: 1 | AU20: 1 | AV20: NA | BM20: NO | BO20: NO | BP20: EnergyCapacity | BQ20: Calculated | BS20: Wind New PG&E (GWh) | BT20: 0 | BU20: 51.4 | BV20: 51.4 | BW20: 51.4 | BX20: newresolve | BY20: new resource selected from portfolio optimization exercise
A21: VCEA_IRP2022_N_CA_wind_30 | B21: _CREZ_GENERIC_NORTHERN_CALIFORNIA_EX_WIND | C21: VCEA_IRP2022_N_CA_wind_30 | D21: PlannedNew | G21: NO | J21: 19 | K21: 5.7 | L21: 48.5 | M21: NotHybrid | W21: 1 | X21: 2 | Y21: 1 | AF21: PacGE | AJ21: 2030 | AK21: 1 | AL21: 1 | AM21: 2030 | AN21: 1 | AO21: 1 | AP21: 2050 | AQ21: 12 | AR21: 31 | AS21: 2030 | AT21: 1 | AU21: 1 | AV21: NA | BM21: NO | BO21: NO | BP21: EnergyCapacity | BQ21: Calculated | BS21: Wind New PG&E (GWh) | BT21: 0 | BU21: 0 | BV21: 48.5 | BW21: 48.5 | BX21: newresolve | BY21: new resource selected from portfolio optimization exercise
A22: VCEA_IRP2022_Offshore_wind_30 | B22: _CREZ_GENERIC_HUMBOLDT_BAY_OFFSHORE_WIND | C22: VCEA_IRP2022_Offshore_wind_30 | D22: PlannedNew | G22: NO | J22: 8.5 | K22: 2.89 | L22: 40.2 | M22: NotHybrid | W22: 1 | X22: 1 | Y22: 1 | AF22: PacGE | AJ22: 2030 | AK22: 1 | AL22: 1 | AM22: 2030 | AN22: 1 | AO22: 1 | AP22: 2050 | AQ22: 12 | AR22: 31 | AS22: 2030 | AT22: 1 | AU22: 1 | AV22: NA | BM22: NO | BO22: NO | BP22: EnergyCapacity | BQ22: Calculated | BS22: Wind Offshore Humboldt (GWh) | BT22: 0 | BU22: 0 | BV22: 40.2 | BW22: 40.2 | BX22: newresolve | BY22: new resource selected from portfolio optimization exercise
A23: VCEA_IRP2022_Offshore_wind_35 | B23: _CREZ_GENERIC_HUMBOLDT_BAY_OFFSHORE_WIND | C23: VCEA_IRP2022_Offshore_wind_35 | D23: PlannedNew | G23: NO | J23: 26.5 | K23: 9.01 | L23: 127.6 | M23: NotHybrid | W23: 1 | X23: 1 | Y23: 1 | AF23: PacGE | AJ23: 2035 | AK23: 1 | AL23: 1 | AM23: 2035 | AN23: 1 | AO23: 1 | AP23: 2050 | AQ23: 12 | AR23: 31 | AS23: 2035 | AT23: 1 | AU23: 1 | AV23: NA | BM23: NO | BO23: NO | BP23: EnergyCapacity | BQ23: Calculated | BS23: Wind Offshore Humboldt (GWh) | BT23: 0 | BU23: 0 | BV23: 0 | BW23: 127.6 | BX23: newresolve | BY23: new resource selected from portfolio optimization exercise
A24: VCEA_IRP2022_RA_Only_24 | B24: _EXISTING_GENERIC_COMBINED_CYCLE | C24: VCEA_IRP2022_RA_Only_24 | D24: PlannedExisting | G24: NO | J24: 33 | K24: 33 | L24: 0 | M24: NotHybrid | AF24: PacGE | AJ24: 2024 | AK24: 1 | AL24: 1 | AM24: 2024 | AN24: 1 | AO24: 1 | AP24: 2024 | AQ24: 12 | AR24: 31 | AS24: 2024 | AT24: 1 | AU24: 1 | AV24: NA | BM24: NO | BO24: NO | BP24: CapacityOnly | BQ24: Calculated | BS24: NA | BX24: existinggeneric | BY24: RA only commercial transaction; assigning elcc type of "unspecified_import" since contract will volume will be for guaranteed RA volume
A25: VCEA_IRP2022_RA_Only_25 | B25: _EXISTING_GENERIC_COMBINED_CYCLE | C25: VCEA_IRP2022_RA_Only_25 | D25: PlannedExisting | G25: NO | J25: 42.366866 | K25: 42.366866 | L25: 0 | M25: NotHybrid | AF25: PacGE | AJ25: 2025 | AK25: 1 | AL25: 1 | AM25: 2025 | AN25: 1 | AO25: 1 | AP25: 2025 | AQ25: 12 | AR25: 31 | AS25: 2025 | AT25: 1 | AU25: 1 | AV25: NA | BM25: NO | BO25: NO | BP25: CapacityOnly | BQ25: Calculated | BS25: NA | BX25: existinggeneric | BY25: RA only commercial transaction; assigning elcc type of "unspecified_import" since contract will volume will be for guaranteed RA volume
A26: VCEA_IRP2022_RA_Only_26 | B26: _EXISTING_GENERIC_COMBINED_CYCLE | C26: VCEA_IRP2022_RA_Only_26 | D26: PlannedExisting | G26: NO | J26: 42 | K26: 42 | L26: 0 | M26: NotHybrid | AF26: PacGE | AJ26: 2026 | AK26: 1 | AL26: 1 | AM26: 2026 | AN26: 1 | AO26: 1 | AP26: 2026 | AQ26: 12 | AR26: 31 | AS26: 2026 | AT26: 1 | AU26: 1 | AV26: NA | BM26: NO | BO26: NO | BP26: CapacityOnly | BQ26: Calculated | BS26: NA | BX26: existinggeneric | BY26: RA only commercial transaction; assigning elcc type of "unspecified_import" since contract will volume will be for guaranteed RA volume
A27: VCEA_IRP2022_RA_Only_27 | B27: _EXISTING_GENERIC_COMBINED_CYCLE | C27: VCEA_IRP2022_RA_Only_27 | D27: PlannedExisting | G27: NO | J27: 57.056491 | K27: 57.056491 | L27: 0 | M27: NotHybrid | AF27: PacGE | AJ27: 2027 | AK27: 1 | AL27: 1 | AM27: 2027 | AN27: 1 | AO27: 1 | AP27: 2027 | AQ27: 12 | AR27: 31 | AS27: 2027 | AT27: 1 | AU27: 1 | AV27: NA | BM27: NO | BO27: NO | BP27: CapacityOnly | BQ27: Calculated | BS27: NA | BX27: existinggeneric | BY27: RA only commercial transaction; assigning elcc type of "unspecified_import" since contract will volume will be for guaranteed RA volume
A28: VCEA_IRP2022_RA_Only_28 | B28: _EXISTING_GENERIC_COMBINED_CYCLE | C28: VCEA_IRP2022_RA_Only_28 | D28: PlannedExisting | G28: NO | J28: 69.719981 | K28: 69.719981 | L28: 0 | M28: NotHybrid | AF28: PacGE | AJ28: 2028 | AK28: 1 | AL28: 1 | AM28: 2028 | AN28: 1 | AO28: 1 | AP28: 2028 | AQ28: 12 | AR28: 31 | AS28: 2028 | AT28: 1 | AU28: 1 | AV28: NA | BM28: NO | BO28: NO | BP28: CapacityOnly | BQ28: Calculated | BS28: NA | BX28: existinggeneric | BY28: RA only commercial transaction; assigning elcc type of "unspecified_import" since contract will volume will be for guaranteed RA volume
A29: VCEA_IRP2022_RA_Only_29 | B29: _EXISTING_GENERIC_COMBINED_CYCLE | C29: VCEA_IRP2022_RA_Only_29 | D29: PlannedExisting | G29: NO | J29: 75.912029 | K29: 75.912029 | L29: 0 | M29: NotHybrid | AF29: PacGE | AJ29: 2029 | AK29: 1 | AL29: 1 | AM29: 2029 | AN29: 1 | AO29: 1 | AP29: 2029 | AQ29: 12 | AR29: 31 | AS29: 2029 | AT29: 1 | AU29: 1 | AV29: NA | BM29: NO | BO29: NO | BP29: CapacityOnly | BQ29: Calculated | BS29: NA | BX29: existinggeneric | BY29: RA only commercial transaction; assigning elcc type of "unspecified_import" since contract will volume will be for guaranteed RA volume
A30: VCEA_IRP2022_RA_Only_30 | B30: _EXISTING_GENERIC_COMBINED_CYCLE | C30: VCEA_IRP2022_RA_Only_30 | D30: PlannedExisting | G30: NO | J30: 26.707275 | K30: 26.707275 | L30: 0 | M30: NotHybrid | AF30: PacGE | AJ30: 2030 | AK30: 1 | AL30: 1 | AM30: 2030 | AN30: 1 | AO30: 1 | AP30: 2030 | AQ30: 12 | AR30: 31 | AS30: 2030 | AT30: 1 | AU30: 1 | AV30: NA | BM30: NO | BO30: NO | BP30: CapacityOnly | BQ30: Calculated | BS30: NA | BX30: existinggeneric | BY30: RA only commercial transaction; assigning elcc type of "unspecified_import" since contract will volume will be for guaranteed RA volume
A31: VCEA_IRP2022_RA_Only_31 | B31: _EXISTING_GENERIC_COMBINED_CYCLE | C31: VCEA_IRP2022_RA_Only_31 | D31: PlannedExisting | G31: NO | J31: 44.165806 | K31: 44.165806 | L31: 0 | M31: NotHybrid | AF31: PacGE | AJ31: 2031 | AK31: 1 | AL31: 1 | AM31: 2031 | AN31: 1 | AO31: 1 | AP31: 2031 | AQ31: 12 | AR31: 31 | AS31: 2031 | AT31: 1 | AU31: 1 | AV31: NA | BM31: NO | BO31: NO | BP31: CapacityOnly | BQ31: Calculated | BS31: NA | BX31: existinggeneric | BY31: RA only commercial transaction; assigning elcc type of "unspecified_import" since contract will volume will be for guaranteed RA volume
A32: VCEA_IRP2022_RA_Only_32 | B32: _EXISTING_GENERIC_COMBINED_CYCLE | C32: VCEA_IRP2022_RA_Only_32 | D32: PlannedExisting | G32: NO | J32: 59.701232 | K32: 59.701232 | L32: 0 | M32: NotHybrid | AF32: PacGE | AJ32: 2032 | AK32: 1 | AL32: 1 | AM32: 2032 | AN32: 1 | AO32: 1 | AP32: 2032 | AQ32: 12 | AR32: 31 | AS32: 2032 | AT32: 1 | AU32: 1 | AV32: NA | BM32: NO | BO32: NO | BP32: CapacityOnly | BQ32: Calculated | BS32: NA | BX32: existinggeneric | BY32: RA only commercial transaction; assigning elcc type of "unspecified_import" since contract will volume will be for guaranteed RA volume
A33: VCEA_IRP2022_RA_Only_33 | B33: _EXISTING_GENERIC_COMBINED_CYCLE | C33: VCEA_IRP2022_RA_Only_33 | D33: PlannedExisting | G33: NO | J33: 70.938671 | K33: 70.938671 | L33: 0 | M33: NotHybrid | AF33: PacGE | AJ33: 2033 | AK33: 1 | AL33: 1 | AM33: 2033 | AN33: 1 | AO33: 1 | AP33: 2033 | AQ33: 12 | AR33: 31 | AS33: 2033 | AT33: 1 | AU33: 1 | AV33: NA | BM33: NO | BO33: NO | BP33: CapacityOnly | BQ33: Calculated | BS33: NA | BX33: existinggeneric | BY33: RA only commercial transaction; assigning elcc type of "unspecified_import" since contract will volume will be for guaranteed RA volume
A34: VCEA_IRP2022_RA_Only_34 | B34: _EXISTING_GENERIC_COMBINED_CYCLE | C34: VCEA_IRP2022_RA_Only_34 | D34: PlannedExisting | G34: NO | J34: 93.558151 | K34: 93.558151 | L34: 0 | M34: NotHybrid | AF34: PacGE | AJ34: 2034 | AK34: 1 | AL34: 1 | AM34: 2034 | AN34: 1 | AO34: 1 | AP34: 2034 | AQ34: 12 | AR34: 31 | AS34: 2034 | AT34: 1 | AU34: 1 | AV34: NA | BM34: NO | BO34: NO | BP34: CapacityOnly | BQ34: Calculated | BS34: NA | BX34: existinggeneric | BY34: RA only commercial transaction; assigning elcc type of "unspecified_import" since contract will volume will be for guaranteed RA volume
A35: VCEA_IRP2022_RA_Only_35 | B35: _EXISTING_GENERIC_COMBINED_CYCLE | C35: VCEA_IRP2022_RA_Only_35 | D35: PlannedExisting | G35: NO | J35: 79.619657 | K35: 79.619657 | L35: 0 | M35: NotHybrid | AF35: PacGE | AJ35: 2035 | AK35: 1 | AL35: 1 | AM35: 2035 | AN35: 1 | AO35: 1 | AP35: 2035 | AQ35: 12 | AR35: 31 | AS35: 2035 | AT35: 1 | AU35: 1 | AV35: NA | BM35: NO | BO35: NO | BP35: CapacityOnly | BQ35: Calculated | BS35: NA | BX35: existinggeneric | BY35: RA only commercial transaction; assigning elcc type of "unspecified_import" since contract will volume will be for guaranteed RA volume
A36: VCEA_IRP2022_4_NorCA_2024 | B36: _NEW_GENERIC_BATTERY_STORAGE | C36: VCEA_IRP2022_4_NorCA_2024 | D36: PlannedNew | G36: NO | J36: 6.5 | K36: 6.5 | L36: 0 | M36: NotHybrid | T36: Li | U36: 26 | V36: 26 | W36: 1 | X36: 2 | Y36: 1 | AF36: PacGE | AJ36: 2024 | AK36: 1 | AL36: 1 | AM36: 2024 | AN36: 1 | AO36: 1 | AP36: 2033 | AQ36: 12 | AR36: 31 | AS36: 2024 | AT36: 1 | AU36: 1 | AV36: NA | BM36: NO | BO36: NO | BP36: EnergyCapacity | BQ36: Calculated | BS36: Battery Storage (MWh Energy Capacity) | BT36: 26 | BU36: 26 | BV36: 26 | BW36: 0 | BX36: newgeneric | BY36: new resource selected from portfolio optimization exercise
A37: VCEA_IRP2022_4_SorCA_2024 | B37: _NEW_GENERIC_BATTERY_STORAGE | C37: VCEA_IRP2022_4_SorCA_2024 | D37: PlannedNew | G37: NO | J37: 13.5 | K37: 13.5 | L37: 0 | M37: NotHybrid | T37: Li | U37: 54 | V37: 54 | W37: 1 | X37: 2 | Y37: 1 | AF37: PacGE | AJ37: 2024 | AK37: 1 | AL37: 1 | AM37: 2024 | AN37: 1 | AO37: 1 | AP37: 2033 | AQ37: 12 | AR37: 31 | AS37: 2024 | AT37: 1 | AU37: 1 | AV37: NA | BM37: NO | BO37: NO | BP37: EnergyCapacity | BQ37: Calculated | BS37: Battery Storage (MWh Energy Capacity) | BT37: 54 | BU37: 54 | BV37: 54 | BW37: 0 | BX37: newgeneric | BY37: new resource selected from portfolio optimization exercise
A38: VCEA_IRP2022_6_LiBatt_2030 | B38: _NEW_GENERIC_BATTERY_STORAGE | C38: VCEA_IRP2022_6_LiBatt_2030 | D38: PlannedNew | G38: NO | J38: 53 | K38: 53 | L38: 0 | M38: NotHybrid | T38: Li | U38: 318 | V38: 318 | W38: 1 | X38: 2 | Y38: 1 | AF38: PacGE | AJ38: 2030 | AK38: 1 | AL38: 1 | AM38: 2030 | AN38: 1 | AO38: 1 | AP38: 2045 | AQ38: 12 | AR38: 31 | AS38: 2035 | AT38: 1 | AU38: 1 | AV38: NA | BM38: NO | BO38: NO | BP38: EnergyCapacity | BQ38: Calculated | BS38: Battery Storage (MWh Energy Capacity) | BT38: 0 | BU38: 0 | BV38: 318 | BW38: 318 | BX38: newgeneric | BY38: new resource selected from portfolio optimization exercise
A39: VCEA_IRP2022_8_LiBatt_2035 | B39: _NEW_GENERIC_BATTERY_STORAGE | C39: VCEA_IRP2022_8_LiBatt_2035 | D39: PlannedNew | G39: NO | J39: 17 | K39: 17 | L39: 0 | M39: NotHybrid | T39: Li | U39: 136 | V39: 136 | W39: 1 | X39: 2 | Y39: 1 | AF39: PacGE | AJ39: 2035 | AK39: 1 | AL39: 1 | AM39: 2035 | AN39: 1 | AO39: 1 | AP39: 2045 | AQ39: 12 | AR39: 31 | AS39: 2035 | AT39: 1 | AU39: 1 | AV39: NA | BM39: NO | BO39: NO | BP39: EnergyCapacity | BQ39: Calculated | BS39: Battery Storage (MWh Energy Capacity) | BT39: 0 | BU39: 0 | BV39: 0 | BW39: 136 | BX39: newgeneric | BY39: new resource selected from portfolio optimization exercise
A40: VCEA_CAM_DR_RA | B40: _EXISTING_GENERIC_DR | C40: VCEA_CAM_DR_RA | D40: Online | G40: NO | J40: 2.2 | K40: 2.2 | L40: 0 | M40: NotHybrid | AA40: CAM | AB40: Buy | AC40: Pacific Gas & Electric | AF40: PacGE | AJ40: 2023 | AK40: 1 | AL40: 1 | AM40: 2023 | AN40: 1 | AO40: 1 | AP40: 2035 | AQ40: 12 | AR40: 31 | AS40: 2023 | AT40: 1 | AU40: 1 | AV40: NA | BM40: YES | BO40: NO | BP40: CapacityOnly | BQ40: Calculated | BS40: NA | BX40: existinggeneric | BY40: VCEA DR_RA allocation for 2023 assumed constrant through 2035;
...

Sheet Calcs
A1: Instruction: This worksheet consists of formulas only. LSEs should extend formulas in columns B:AK to cover all contracts entered in the "unique_contracts" worksheet (i.e. the last row that has formulas in this worksheet should have a row number that is greater than or equal to that of the last row in the "unique_contracts" worksheet). To extend formulas in this worksheet, please select one row (e.g. B500:AK500) and drag down the formulas vertically. PLEASE DO NOT DRAG FORMULAS HORIZONTALLY. Please do not hard-code values in this worksheet. All contract information should be entered in the "unique_contracts" tab. | B1: resource | C1: contract_status | D1: contracted_nameplate_capacity | E1: is_hybrid_paired | F1: can_charge_from_grid | G1: contracted_generator_mw | H1: contracted_storage_mw | I1: contracted_storage_depth_mwh | J1: buy_sell_own | K1: contract_start_date_year | L1: contract_start_date_month | M1: contract_start_date_day | N1: contract_end_date_year | O1: contract_end_date_month | P1: contract_end_date_day | Q1: buying_energy_capacity | R1: multiplier | S1: resource elcc type | T1: hybrid/paired storage elcc type | U1: elcc type (for summary tables and charts) | V1: start year | W1: end year | X1: hybrid storage derate (100% means no derates) | Y1: short duration derate | Z1: 2024 | AA1: 2025 | AB1: 2026 | AC1: 2027 | AD1: 2028 | AE1: 2029 | AF1: 2030 | AG1: 2031 | AH1: 2032 | AI1: 2033 | AJ1: 2034 | AK1: 2035 | AM1: Sum | AN1: Project
B2: =unique_contracts!B2 -> INDVLY_1_UNITS | C2: =unique_contracts!D2 -> Online | D2: =unique_contracts!J2 -> 2.9 | E2: =unique_contracts!M2 -> NotHybrid | F2: =unique_contracts!N2 -> 0 | G2: =unique_contracts!P2 -> 0 | H2: =unique_contracts!R2 -> 0 | I2: =unique_contracts!V2 -> 0 | J2: =unique_contracts!AB2 -> 0 | K2: =unique_contracts!AM2 -> 2020 | L2: =unique_contracts!AN2 -> 6 | M2: =unique_contracts!AO2 -> 1 | N2: =unique_contracts!AP2 -> 2025 | O2: =unique_contracts!AQ2 -> 5 | P2: =unique_contracts!AR2 -> 31 | Q2: =unique_contracts!BP2 -> EnergyCapacity | R2: =IF(AND(J2="Sell",ISNUMBER(SEARCH("Capacity",Q2))),-1,IF(AND(NOT(J2="Sell"),ISNUMBER(SEARCH("Capacity",Q2))),1,0)) -> 1 | S2: =IFERROR(IF(AND(I2>0,E2="NotHybrid"),_xlfn.CONCAT(MAX(MIN(ROUNDDOWN(I2/D2,0),8),4),INDEX(resources!$G:$G,MATCH(B2,resources!$A:$A,0))),INDEX(resources!$G:$G,MATCH(B2,resources!$A:$A,0))),"n/a") -> small_hydro | T2: =IFERROR(IF(NOT(E2="NotHybrid"),_xlfn.CONCAT(MAX(MIN(ROUNDDOWN(I2/H2,0),8),4),"hr_batteries"),"n/a"),"n/a") -> n/a | U2: =IF(T2="n/a",S2,"hybrid") -> small_hydro | V2: =IFERROR(IF(DATE(K2,L2,M2)<=DATE(K2,6,1),K2,K2+1),0) -> 2020 | W2: =IFERROR(IF(DATE(N2,O2,P2)>=DATE(N2,10,1),N2,N2-1),0) -> 2024 | X2: =IF(OR(T2="n/a",NOT(F2="NO")),100%,IF(ISNUMBER(SEARCH("pv",S2)),MIN(G2/(1*(ROUNDDOWN(I2/H2,0)/4)),H2)/H2,IF(ISNUMBER(SEARCH("wind",S2)),MIN(G2/(2*(ROUNDDOWN(I2/H2,0)/4)),H2)/H2,1))) -> 1 | Y2: =IF(ISNUMBER(SEARCH("batteries",S2)),MIN(ROUNDDOWN(I2/D2,0)/4,1), IF(ISNUMBER(SEARCH("batteries",T2)),MIN(ROUNDDOWN(I2/H2,0)/4,1),1)) -> 1 | Z2: =MIN((IFERROR(IF(AND($V2<=Z$1,$W2>=Z$1),INDEX(Reliability!E$23:E$50,MATCH($S2,Reliability!$C$23:$C$50,0)),0),0)*IF($T2="n/a",$D2*$Y2,$G2)+IFERROR(IF(AND($V2<=Z$1,$W2>=Z$1),INDEX(Reliability!E$23:E$50,MATCH($T2,Reliability!$C$23:$C$50,0)),0),0)*$H2*$X2*$Y2),$D2)*$R2 -> 1.1784608 | AA2: =MIN((IFERROR(IF(AND($V2<=AA$1,$W2>=AA$1),INDEX(Reliability!F$23:F$50,MATCH($S2,Reliability!$C$23:$C$50,0)),0),0)*IF($T2="n/a",$D2*$Y2,$G2)+IFERROR(IF(AND($V2<=AA$1,$W2>=AA$1),INDEX(Reliability!F$23:F$50,MATCH($T2,Reliability!$C$23:$C$50,0)),0),0)*$H2*$X2*$Y2),$D2)*$R2 -> 0 | AB2: =MIN((IFERROR(IF(AND($V2<=AB$1,$W2>=AB$1),INDEX(Reliability!G$23:G$50,MATCH($S2,Reliability!$C$23:$C$50,0)),0),0)*IF($T2="n/a",$D2*$Y2,$G2)+IFERROR(IF(AND($V2<=AB$1,$W2>=AB$1),INDEX(Reliability!G$23:G$50,MATCH($T2,Reliability!$C$23:$C$50,0)),0),0)*$H2*$X2*$Y2),$D2)*$R2 -> 0 | AC2: =MIN((IFERROR(IF(AND($V2<=AC$1,$W2>=AC$1),INDEX(Reliability!H$23:H$50,MATCH($S2,Reliability!$C$23:$C$50,0)),0),0)*IF($T2="n/a",$D2*$Y2,$G2)+IFERROR(IF(AND($V2<=AC$1,$W2>=AC$1),INDEX(Reliability!H$23:H$50,MATCH($T2,Reliability!$C$23:$C$50,0)),0),0)*$H2*$X2*$Y2),$D2)*$R2 -> 0 | AD2: =MIN((IFERROR(IF(AND($V2<=AD$1,$W2>=AD$1),INDEX(Reliability!I$23:I$50,MATCH($S2,Reliability!$C$23:$C$50,0)),0),0)*IF($T2="n/a",$D2*$Y2,$G2)+IFERROR(IF(AND($V2<=AD$1,$W2>=AD$1),INDEX(Reliability!I$23:I$50,MATCH($T2,Reliability!$C$23:$C$50,0)),0),0)*$H2*$X2*$Y2),$D2)*$R2 -> 0 | AE2: =MIN((IFERROR(IF(AND($V2<=AE$1,$W2>=AE$1),INDEX(Reliability!J$23:J$50,MATCH($S2,Reliability!$C$23:$C$50,0)),0),0)*IF($T2="n/a",$D2*$Y2,$G2)+IFERROR(IF(AND($V2<=AE$1,$W2>=AE$1),INDEX(Reliability!J$23:J$50,MATCH($T2,Reliability!$C$23:$C$50,0)),0),0)*$H2*$X2*$Y2),$D2)*$R2 -> 0 | AF2: =MIN((IFERROR(IF(AND($V2<=AF$1,$W2>=AF$1),INDEX(Reliability!K$23:K$50,MATCH($S2,Reliability!$C$23:$C$50,0)),0),0)*IF($T2="n/a",$D2*$Y2,$G2)+IFERROR(IF(AND($V2<=AF$1,$W2>=AF$1),INDEX(Reliability!K$23:K$50,MATCH($T2,Reliability!$C$23:$C$50,0)),0),0)*$H2*$X2*$Y2),$D2)*$R2 -> 0 | AG2: =MIN((IFERROR(IF(AND($V2<=AG$1,$W2>=AG$1),INDEX(Reliability!L$23:L$50,MATCH($S2,Reliability!$C$23:$C$50,0)),0),0)*IF($T2="n/a",$D2*$Y2,$G2)+IFERROR(IF(AND($V2<=AG$1,$W2>=AG$1),INDEX(Reliability!L$23:L$50,MATCH($T2,Reliability!$C$23:$C$50,0)),0),0)*$H2*$X2*$Y2),$D2)*$R2 -> 0 | ... AK2: =MIN((IFERROR(IF(AND($V2<=AK$1,$W2>=AK$1),INDEX(Reliability!P$23:P$50,MATCH($S2,Reliability!$C$23:$C$50,0)),0),0)*IF($T2="n/a",$D2*$Y2,$G2)+IFERROR(IF(AND($V2<=AK$1,$W2>=AK$1),INDEX(Reliability!P$23:P$50,MATCH($T2,Reliability!$C$23:$C$50,0)),0),0)*$H2*$X2*$Y2),$D2)*$R2 -> 0 | AM2: =ROUND(SUM(Z2:AK2),1) -> 1.2 | AN2: =unique_contracts!C2 -> Indian Valley Hydro Project
B3: =unique_contracts!B3 -> PUTHCR_1_SOLAR1 | C3: =unique_contracts!D3 -> Development | D3: =unique_contracts!J3 -> 3 | E3: =unique_contracts!M3 -> NewSolarNewStorage | F3: =unique_contracts!N3 -> NO | G3: =unique_contracts!P3 -> 3 | H3: =unique_contracts!R3 -> 3 | I3: =unique_contracts!V3 -> 12 | J3: =unique_contracts!AB3 -> 0 | K3: =unique_contracts!AM3 -> 2022 | L3: =unique_contracts!AN3 -> 7 | M3: =unique_contracts!AO3 -> 16 | N3: =unique_contracts!AP3 -> 2042 | O3: =unique_contracts!AQ3 -> 7 | P3: =unique_contracts!AR3 -> 5 | Q3: =unique_contracts!BP3 -> EnergyCapacity | R3: =IF(AND(J3="Sell",ISNUMBER(SEARCH("Capacity",Q3))),-1,IF(AND(NOT(J3="Sell"),ISNUMBER(SEARCH("Capacity",Q3))),1,0)) -> 1 | S3: =IFERROR(IF(AND(I3>0,E3="NotHybrid"),_xlfn.CONCAT(MAX(MIN(ROUNDDOWN(I3/D3,0),8),4),INDEX(resources!$G:$G,MATCH(B3,resources!$A:$A,0))),INDEX(resources!$G:$G,MATCH(B3,resources!$A:$A,0))),"n/a") -> utility_pv | T3: =IFERROR(IF(NOT(E3="NotHybrid"),_xlfn.CONCAT(MAX(MIN(ROUNDDOWN(I3/H3,0),8),4),"hr_batteries"),"n/a"),"n/a") -> 4hr_batteries | U3: =IF(T3="n/a",S3,"hybrid") -> hybrid | V3: =IFERROR(IF(DATE(K3,L3,M3)<=DATE(K3,6,1),K3,K3+1),0) -> 2023 | W3: =IFERROR(IF(DATE(N3,O3,P3)>=DATE(N3,10,1),N3,N3-1),0) -> 2041 | X3: =IF(OR(T3="n/a",NOT(F3="NO")),100%,IF(ISNUMBER(SEARCH("pv",S3)),MIN(G3/(1*(ROUNDDOWN(I3/H3,0)/4)),H3)/H3,IF(ISNUMBER(SEARCH("wind",S3)),MIN(G3/(2*(ROUNDDOWN(I3/H3,0)/4)),H3)/H3,1))) -> 1 | Y3: =IF(ISNUMBER(SEARCH("batteries",S3)),MIN(ROUNDDOWN(I3/D3,0)/4,1), IF(ISNUMBER(SEARCH("batteries",T3)),MIN(ROUNDDOWN(I3/H3,0)/4,1),1)) -> 1 | Z3: =MIN((IFERROR(IF(AND($V3<=Z$1,$W3>=Z$1),INDEX(Reliability!E$23:E$50,MATCH($S3,Reliability!$C$23:$C$50,0)),0),0)*IF($T3="n/a",$D3*$Y3,$G3)+IFERROR(IF(AND($V3<=Z$1,$W3>=Z$1),INDEX(Reliability!E$23:E$50,MATCH($T3,Reliability!$C$23:$C$50,0)),0),0)*$H3*$X3*$Y3),$D3)*$R3 -> 2.943 | AA3: =MIN((IFERROR(IF(AND($V3<=AA$1,$W3>=AA$1),INDEX(Reliability!F$23:F$50,MATCH($S3,Reliability!$C$23:$C$50,0)),0),0)*IF($T3="n/a",$D3*$Y3,$G3)+IFERROR(IF(AND($V3<=AA$1,$W3>=AA$1),INDEX(Reliability!F$23:F$50,MATCH($T3,Reliability!$C$23:$C$50,0)),0),0)*$H3*$X3*$Y3),$D3)*$R3 -> 3 | AB3: =MIN((IFERROR(IF(AND($V3<=AB$1,$W3>=AB$1),INDEX(Reliability!G$23:G$50,MATCH($S3,Reliability!$C$23:$C$50,0)),0),0)*IF($T3="n/a",$D3*$Y3,$G3)+IFERROR(IF(AND($V3<=AB$1,$W3>=AB$1),INDEX(Reliability!G$23:G$50,MATCH($T3,Reliability!$C$23:$C$50,0)),0),0)*$H3*$X3*$Y3),$D3)*$R3 -> 3 | AC3: =MIN((IFERROR(IF(AND($V3<=AC$1,$W3>=AC$1),INDEX(Reliability!H$23:H$50,MATCH($S3,Reliability!$C$23:$C$50,0)),0),0)*IF($T3="n/a",$D3*$Y3,$G3)+IFERROR(IF(AND($V3<=AC$1,$W3>=AC$1),INDEX(Reliability!H$23:H$50,MATCH($T3,Reliability!$C$23:$C$50,0)),0),0)*$H3*$X3*$Y3),$D3)*$R3 -> 2.841541 | AD3: =MIN((IFERROR(IF(AND($V3<=AD$1,$W3>=AD$1),INDEX(Reliability!I$23:I$50,MATCH($S3,Reliability!$C$23:$C$50,0)),0),0)*IF($T3="n/a",$D3*$Y3,$G3)+IFERROR(IF(AND($V3<=AD$1,$W3>=AD$1),INDEX(Reliability!I$23:I$50,MATCH($T3,Reliability!$C$23:$C$50,0)),0),0)*$H3*$X3*$Y3),$D3)*$R3 -> 2.6038781 | AE3: =MIN((IFERROR(IF(AND($V3<=AE$1,$W3>=AE$1),INDEX(Reliability!J$23:J$50,MATCH($S3,Reliability!$C$23:$C$50,0)),0),0)*IF($T3="n/a",$D3*$Y3,$G3)+IFERROR(IF(AND($V3<=AE$1,$W3>=AE$1),INDEX(Reliability!J$23:J$50,MATCH($T3,Reliability!$C$23:$C$50,0)),0),0)*$H3*$X3*$Y3),$D3)*$R3 -> 2.509439 | AF3: =MIN((IFERROR(IF(AND($V3<=AF$1,$W3>=AF$1),INDEX(Reliability!K$23:K$50,MATCH($S3,Reliability!$C$23:$C$50,0)),0),0)*IF($T3="n/a",$D3*$Y3,$G3)+IFERROR(IF(AND($V3<=AF$1,$W3>=AF$1),INDEX(Reliability!K$23:K$50,MATCH($T3,Reliability!$C$23:$C$50,0)),0),0)*$H3*$X3*$Y3),$D3)*$R3 -> 2.415 | AG3: =MIN((IFERROR(IF(AND($V3<=AG$1,$W3>=AG$1),INDEX(Reliability!L$23:L$50,MATCH($S3,Reliability!$C$23:$C$50,0)),0),0)*IF($T3="n/a",$D3*$Y3,$G3)+IFERROR(IF(AND($V3<=AG$1,$W3>=AG$1),INDEX(Reliability!L$23:L$50,MATCH($T3,Reliability!$C$23:$C$50,0)),0),0)*$H3*$X3*$Y3),$D3)*$R3 -> 2.211 | ... AK3: =MIN((IFERROR(IF(AND($V3<=AK$1,$W3>=AK$1),INDEX(Reliability!P$23:P$50,MATCH($S3,Reliability!$C$23:$C$50,0)),0),0)*IF($T3="n/a",$D3*$Y3,$G3)+IFERROR(IF(AND($V3<=AK$1,$W3>=AK$1),INDEX(Reliability!P$23:P$50,MATCH($T3,Reliability!$C$23:$C$50,0)),0),0)*$H3*$X3*$Y3),$D3)*$R3 -> 1.395 | AM3: =ROUND(SUM(Z3:AK3),1) -> 28.3 | AN3: =unique_contracts!C3 -> Putah Creek Energy Farm
B4: =unique_contracts!B4 -> _NEW_GENERIC_SOLAR_1AXIS | C4: =unique_contracts!D4 -> Development | D4: =unique_contracts!J4 -> 20 | E4: =unique_contracts!M4 -> NewSolarNewStorage | F4: =unique_contracts!N4 -> NO | G4: =unique_contracts!P4 -> 20 | H4: =unique_contracts!R4 -> 6.5 | I4: =unique_contracts!V4 -> 26 | J4: =unique_contracts!AB4 -> 0 | K4: =unique_contracts!AM4 -> 2024 | L4: =unique_contracts!AN4 -> 6 | M4: =unique_contracts!AO4 -> 1 | N4: =unique_contracts!AP4 -> 2044 | O4: =unique_contracts!AQ4 -> 5 | P4: =unique_contracts!AR4 -> 31 | Q4: =unique_contracts!BP4 -> EnergyCapacity | R4: =IF(AND(J4="Sell",ISNUMBER(SEARCH("Capacity",Q4))),-1,IF(AND(NOT(J4="Sell"),ISNUMBER(SEARCH("Capacity",Q4))),1,0)) -> 1 | S4: =IFERROR(IF(AND(I4>0,E4="NotHybrid"),_xlfn.CONCAT(MAX(MIN(ROUNDDOWN(I4/D4,0),8),4),INDEX(resources!$G:$G,MATCH(B4,resources!$A:$A,0))),INDEX(resources!$G:$G,MATCH(B4,resources!$A:$A,0))),"n/a") -> utility_pv | T4: =IFERROR(IF(NOT(E4="NotHybrid"),_xlfn.CONCAT(MAX(MIN(ROUNDDOWN(I4/H4,0),8),4),"hr_batteries"),"n/a"),"n/a") -> 4hr_batteries | U4: =IF(T4="n/a",S4,"hybrid") -> hybrid | V4: =IFERROR(IF(DATE(K4,L4,M4)<=DATE(K4,6,1),K4,K4+1),0) -> 2024 | W4: =IFERROR(IF(DATE(N4,O4,P4)>=DATE(N4,10,1),N4,N4-1),0) -> 2043 | X4: =IF(OR(T4="n/a",NOT(F4="NO")),100%,IF(ISNUMBER(SEARCH("pv",S4)),MIN(G4/(1*(ROUNDDOWN(I4/H4,0)/4)),H4)/H4,IF(ISNUMBER(SEARCH("wind",S4)),MIN(G4/(2*(ROUNDDOWN(I4/H4,0)/4)),H4)/H4,1))) -> 1 | Y4: =IF(ISNUMBER(SEARCH("batteries",S4)),MIN(ROUNDDOWN(I4/D4,0)/4,1), IF(ISNUMBER(SEARCH("batteries",T4)),MIN(ROUNDDOWN(I4/H4,0)/4,1),1)) -> 1 | Z4: =MIN((IFERROR(IF(AND($V4<=Z$1,$W4>=Z$1),INDEX(Reliability!E$23:E$50,MATCH($S4,Reliability!$C$23:$C$50,0)),0),0)*IF($T4="n/a",$D4*$Y4,$G4)+IFERROR(IF(AND($V4<=Z$1,$W4>=Z$1),INDEX(Reliability!E$23:E$50,MATCH($T4,Reliability!$C$23:$C$50,0)),0),0)*$H4*$X4*$Y4),$D4)*$R4 -> 7.6725 | AA4: =MIN((IFERROR(IF(AND($V4<=AA$1,$W4>=AA$1),INDEX(Reliability!F$23:F$50,MATCH($S4,Reliability!$C$23:$C$50,0)),0),0)*IF($T4="n/a",$D4*$Y4,$G4)+IFERROR(IF(AND($V4<=AA$1,$W4>=AA$1),INDEX(Reliability!F$23:F$50,MATCH($T4,Reliability!$C$23:$C$50,0)),0),0)*$H4*$X4*$Y4),$D4)*$R4 -> 7.9037629 | AB4: =MIN((IFERROR(IF(AND($V4<=AB$1,$W4>=AB$1),INDEX(Reliability!G$23:G$50,MATCH($S4,Reliability!$C$23:$C$50,0)),0),0)*IF($T4="n/a",$D4*$Y4,$G4)+IFERROR(IF(AND($V4<=AB$1,$W4>=AB$1),INDEX(Reliability!G$23:G$50,MATCH($T4,Reliability!$C$23:$C$50,0)),0),0)*$H4*$X4*$Y4),$D4)*$R4 -> 8.1350257 | AC4: =MIN((IFERROR(IF(AND($V4<=AC$1,$W4>=AC$1),INDEX(Reliability!H$23:H$50,MATCH($S4,Reliability!$C$23:$C$50,0)),0),0)*IF($T4="n/a",$D4*$Y4,$G4)+IFERROR(IF(AND($V4<=AC$1,$W4>=AC$1),INDEX(Reliability!H$23:H$50,MATCH($T4,Reliability!$C$23:$C$50,0)),0),0)*$H4*$X4*$Y4),$D4)*$R4 -> 7.5293564 | AD4: =MIN((IFERROR(IF(AND($V4<=AD$1,$W4>=AD$1),INDEX(Reliability!I$23:I$50,MATCH($S4,Reliability!$C$23:$C$50,0)),0),0)*IF($T4="n/a",$D4*$Y4,$G4)+IFERROR(IF(AND($V4<=AD$1,$W4>=AD$1),INDEX(Reliability!I$23:I$50,MATCH($T4,Reliability!$C$23:$C$50,0)),0),0)*$H4*$X4*$Y4),$D4)*$R4 -> 6.9236871 | AE4: =MIN((IFERROR(IF(AND($V4<=AE$1,$W4>=AE$1),INDEX(Reliability!J$23:J$50,MATCH($S4,Reliability!$C$23:$C$50,0)),0),0)*IF($T4="n/a",$D4*$Y4,$G4)+IFERROR(IF(AND($V4<=AE$1,$W4>=AE$1),INDEX(Reliability!J$23:J$50,MATCH($T4,Reliability!$C$23:$C$50,0)),0),0)*$H4*$X4*$Y4),$D4)*$R4 -> 6.4830936 | AF4: =MIN((IFERROR(IF(AND($V4<=AF$1,$W4>=AF$1),INDEX(Reliability!K$23:K$50,MATCH($S4,Reliability!$C$23:$C$50,0)),0),0)*IF($T4="n/a",$D4*$Y4,$G4)+IFERROR(IF(AND($V4<=AF$1,$W4>=AF$1),INDEX(Reliability!K$23:K$50,MATCH($T4,Reliability!$C$23:$C$50,0)),0),0)*$H4*$X4*$Y4),$D4)*$R4 -> 6.0425 | AG4: =MIN((IFERROR(IF(AND($V4<=AG$1,$W4>=AG$1),INDEX(Reliability!L$23:L$50,MATCH($S4,Reliability!$C$23:$C$50,0)),0),0)*IF($T4="n/a",$D4*$Y4,$G4)+IFERROR(IF(AND($V4<=AG$1,$W4>=AG$1),INDEX(Reliability!L$23:L$50,MATCH($T4,Reliability!$C$23:$C$50,0)),0),0)*$H4*$X4*$Y4),$D4)*$R4 -> 5.6113 | ... AK4: =MIN((IFERROR(IF(AND($V4<=AK$1,$W4>=AK$1),INDEX(Reliability!P$23:P$50,MATCH($S4,Reliability!$C$23:$C$50,0)),0),0)*IF($T4="n/a",$D4*$Y4,$G4)+IFERROR(IF(AND($V4<=AK$1,$W4>=AK$1),INDEX(Reliability!P$23:P$50,MATCH($T4,Reliability!$C$23:$C$50,0)),0),0)*$H4*$X4*$Y4),$D4)*$R4 -> 3.8865 | AM4: =ROUND(SUM(Z4:AK4),1) -> 74.4 | AN4: =unique_contracts!C4 -> Gibson Solar
B5: =unique_contracts!B5 -> _NEW_GENERIC_SOLAR_1AXIS | C5: =unique_contracts!D5 -> Development | D5: =unique_contracts!J5 -> 72 | E5: =unique_contracts!M5 -> NewSolarNewStorage | F5: =unique_contracts!N5 -> NO | G5: =unique_contracts!P5 -> 72 | H5: =unique_contracts!R5 -> 36 | I5: =unique_contracts!V5 -> 144 | J5: =unique_contracts!AB5 -> 0 | K5: =unique_contracts!AM5 -> 2023 | L5: =unique_contracts!AN5 -> 12 | M5: =unique_contracts!AO5 -> 31 | N5: =unique_contracts!AP5 -> 2038 | O5: =unique_contracts!AQ5 -> 12 | P5: =unique_contracts!AR5 -> 30 | Q5: =unique_contracts!BP5 -> EnergyCapacity | R5: =IF(AND(J5="Sell",ISNUMBER(SEARCH("Capacity",Q5))),-1,IF(AND(NOT(J5="Sell"),ISNUMBER(SEARCH("Capacity",Q5))),1,0)) -> 1 | S5: =IFERROR(IF(AND(I5>0,E5="NotHybrid"),_xlfn.CONCAT(MAX(MIN(ROUNDDOWN(I5/D5,0),8),4),INDEX(resources!$G:$G,MATCH(B5,resources!$A:$A,0))),INDEX(resources!$G:$G,MATCH(B5,resources!$A:$A,0))),"n/a") -> utility_pv | T5: =IFERROR(IF(NOT(E5="NotHybrid"),_xlfn.CONCAT(MAX(MIN(ROUNDDOWN(I5/H5,0),8),4),"hr_batteries"),"n/a"),"n/a") -> 4hr_batteries | U5: =IF(T5="n/a",S5,"hybrid") -> hybrid | V5: =IFERROR(IF(DATE(K5,L5,M5)<=DATE(K5,6,1),K5,K5+1),0) -> 2024 | W5: =IFERROR(IF(DATE(N5,O5,P5)>=DATE(N5,10,1),N5,N5-1),0) -> 2038 | X5: =IF(OR(T5="n/a",NOT(F5="NO")),100%,IF(ISNUMBER(SEARCH("pv",S5)),MIN(G5/(1*(ROUNDDOWN(I5/H5,0)/4)),H5)/H5,IF(ISNUMBER(SEARCH("wind",S5)),MIN(G5/(2*(ROUNDDOWN(I5/H5,0)/4)),H5)/H5,1))) -> 1 | Y5: =IF(ISNUMBER(SEARCH("batteries",S5)),MIN(ROUNDDOWN(I5/D5,0)/4,1), IF(ISNUMBER(SEARCH("batteries",T5)),MIN(ROUNDDOWN(I5/H5,0)/4,1),1)) -> 1 | Z5: =MIN((IFERROR(IF(AND($V5<=Z$1,$W5>=Z$1),INDEX(Reliability!E$23:E$50,MATCH($S5,Reliability!$C$23:$C$50,0)),0),0)*IF($T5="n/a",$D5*$Y5,$G5)+IFERROR(IF(AND($V5<=Z$1,$W5>=Z$1),INDEX(Reliability!E$23:E$50,MATCH($T5,Reliability!$C$23:$C$50,0)),0),0)*$H5*$X5*$Y5),$D5)*$R5 -> 38.772 | AA5: =MIN((IFERROR(IF(AND($V5<=AA$1,$W5>=AA$1),INDEX(Reliability!F$23:F$50,MATCH($S5,Reliability!$C$23:$C$50,0)),0),0)*IF($T5="n/a",$D5*$Y5,$G5)+IFERROR(IF(AND($V5<=AA$1,$W5>=AA$1),INDEX(Reliability!F$23:F$50,MATCH($T5,Reliability!$C$23:$C$50,0)),0),0)*$H5*$X5*$Y5),$D5)*$R5 -> 39.812446 | AB5: =MIN((IFERROR(IF(AND($V5<=AB$1,$W5>=AB$1),INDEX(Reliability!G$23:G$50,MATCH($S5,Reliability!$C$23:$C$50,0)),0),0)*IF($T5="n/a",$D5*$Y5,$G5)+IFERROR(IF(AND($V5<=AB$1,$W5>=AB$1),INDEX(Reliability!G$23:G$50,MATCH($T5,Reliability!$C$23:$C$50,0)),0),0)*$H5*$X5*$Y5),$D5)*$R5 -> 40.852893 | AC5: =MIN((IFERROR(IF(AND($V5<=AC$1,$W5>=AC$1),INDEX(Reliability!H$23:H$50,MATCH($S5,Reliability!$C$23:$C$50,0)),0),0)*IF($T5="n/a",$D5*$Y5,$G5)+IFERROR(IF(AND($V5<=AC$1,$W5>=AC$1),INDEX(Reliability!H$23:H$50,MATCH($T5,Reliability!$C$23:$C$50,0)),0),0)*$H5*$X5*$Y5),$D5)*$R5 -> 37.758983 | AD5: =MIN((IFERROR(IF(AND($V5<=AD$1,$W5>=AD$1),INDEX(Reliability!I$23:I$50,MATCH($S5,Reliability!$C$23:$C$50,0)),0),0)*IF($T5="n/a",$D5*$Y5,$G5)+IFERROR(IF(AND($V5<=AD$1,$W5>=AD$1),INDEX(Reliability!I$23:I$50,MATCH($T5,Reliability!$C$23:$C$50,0)),0),0)*$H5*$X5*$Y5),$D5)*$R5 -> 34.665074 | AE5: =MIN((IFERROR(IF(AND($V5<=AE$1,$W5>=AE$1),INDEX(Reliability!J$23:J$50,MATCH($S5,Reliability!$C$23:$C$50,0)),0),0)*IF($T5="n/a",$D5*$Y5,$G5)+IFERROR(IF(AND($V5<=AE$1,$W5>=AE$1),INDEX(Reliability!J$23:J$50,MATCH($T5,Reliability!$C$23:$C$50,0)),0),0)*$H5*$X5*$Y5),$D5)*$R5 -> 32.902537 | AF5: =MIN((IFERROR(IF(AND($V5<=AF$1,$W5>=AF$1),INDEX(Reliability!K$23:K$50,MATCH($S5,Reliability!$C$23:$C$50,0)),0),0)*IF($T5="n/a",$D5*$Y5,$G5)+IFERROR(IF(AND($V5<=AF$1,$W5>=AF$1),INDEX(Reliability!K$23:K$50,MATCH($T5,Reliability!$C$23:$C$50,0)),0),0)*$H5*$X5*$Y5),$D5)*$R5 -> 31.14 | AG5: =MIN((IFERROR(IF(AND($V5<=AG$1,$W5>=AG$1),INDEX(Reliability!L$23:L$50,MATCH($S5,Reliability!$C$23:$C$50,0)),0),0)*IF($T5="n/a",$D5*$Y5,$G5)+IFERROR(IF(AND($V5<=AG$1,$W5>=AG$1),INDEX(Reliability!L$23:L$50,MATCH($T5,Reliability!$C$23:$C$50,0)),0),0)*$H5*$X5*$Y5),$D5)*$R5 -> 28.7208 | ... AK5: =MIN((IFERROR(IF(AND($V5<=AK$1,$W5>=AK$1),INDEX(Reliability!P$23:P$50,MATCH($S5,Reliability!$C$23:$C$50,0)),0),0)*IF($T5="n/a",$D5*$Y5,$G5)+IFERROR(IF(AND($V5<=AK$1,$W5>=AK$1),INDEX(Reliability!P$23:P$50,MATCH($T5,Reliability!$C$23:$C$50,0)),0),0)*$H5*$X5*$Y5),$D5)*$R5 -> 19.044 | AM5: =ROUND(SUM(Z5:AK5),1) -> 375.3 | AN5: =unique_contracts!C5 -> Willow Springs Solar 3 or Willy 9 Chap 2
B6: =unique_contracts!B6 -> AQUAWS_2_AQWSR1 | C6: =unique_contracts!D6 -> Online | D6: =unique_contracts!J6 -> 50 | E6: =unique_contracts!M6 -> NotHybrid | F6: =unique_contracts!N6 -> 0 | G6: =unique_contracts!P6 -> 0 | H6: =unique_contracts!R6 -> 0 | I6: =unique_contracts!V6 -> 0 | J6: =unique_contracts!AB6 -> 0 | K6: =unique_contracts!AM6 -> 2021 | L6: =unique_contracts!AN6 -> 9 | M6: =unique_contracts!AO6 -> 22 | N6: =unique_contracts!AP6 -> 2036 | O6: =unique_contracts!AQ6 -> 9 | P6: =unique_contracts!AR6 -> 21 | Q6: =unique_contracts!BP6 -> EnergyCapacity | R6: =IF(AND(J6="Sell",ISNUMBER(SEARCH("Capacity",Q6))),-1,IF(AND(NOT(J6="Sell"),ISNUMBER(SEARCH("Capacity",Q6))),1,0)) -> 1 | S6: =IFERROR(IF(AND(I6>0,E6="NotHybrid"),_xlfn.CONCAT(MAX(MIN(ROUNDDOWN(I6/D6,0),8),4),INDEX(resources!$G:$G,MATCH(B6,resources!$A:$A,0))),INDEX(resources!$G:$G,MATCH(B6,resources!$A:$A,0))),"n/a") -> utility_pv | T6: =IFERROR(IF(NOT(E6="NotHybrid"),_xlfn.CONCAT(MAX(MIN(ROUNDDOWN(I6/H6,0),8),4),"hr_batteries"),"n/a"),"n/a") -> n/a | U6: =IF(T6="n/a",S6,"hybrid") -> utility_pv | V6: =IFERROR(IF(DATE(K6,L6,M6)<=DATE(K6,6,1),K6,K6+1),0) -> 2022 | W6: =IFERROR(IF(DATE(N6,O6,P6)>=DATE(N6,10,1),N6,N6-1),0) -> 2035 | X6: =IF(OR(T6="n/a",NOT(F6="NO")),100%,IF(ISNUMBER(SEARCH("pv",S6)),MIN(G6/(1*(ROUNDDOWN(I6/H6,0)/4)),H6)/H6,IF(ISNUMBER(SEARCH("wind",S6)),MIN(G6/(2*(ROUNDDOWN(I6/H6,0)/4)),H6)/H6,1))) -> 1 | Y6: =IF(ISNUMBER(SEARCH("batteries",S6)),MIN(ROUNDDOWN(I6/D6,0)/4,1), IF(ISNUMBER(SEARCH("batteries",T6)),MIN(ROUNDDOWN(I6/H6,0)/4,1),1)) -> 1 | Z6: =MIN((IFERROR(IF(AND($V6<=Z$1,$W6>=Z$1),INDEX(Reliability!E$23:E$50,MATCH($S6,Reliability!$C$23:$C$50,0)),0),0)*IF($T6="n/a",$D6*$Y6,$G6)+IFERROR(IF(AND($V6<=Z$1,$W6>=Z$1),INDEX(Reliability!E$23:E$50,MATCH($T6,Reliability!$C$23:$C$50,0)),0),0)*$H6*$X6*$Y6),$D6)*$R6 -> 4.8 | AA6: =MIN((IFERROR(IF(AND($V6<=AA$1,$W6>=AA$1),INDEX(Reliability!F$23:F$50,MATCH($S6,Reliability!$C$23:$C$50,0)),0),0)*IF($T6="n/a",$D6*$Y6,$G6)+IFERROR(IF(AND($V6<=AA$1,$W6>=AA$1),INDEX(Reliability!F$23:F$50,MATCH($T6,Reliability!$C$23:$C$50,0)),0),0)*$H6*$X6*$Y6),$D6)*$R6 -> 5.1100322 | AB6: =MIN((IFERROR(IF(AND($V6<=AB$1,$W6>=AB$1),INDEX(Reliability!G$23:G$50,MATCH($S6,Reliability!$C$23:$C$50,0)),0),0)*IF($T6="n/a",$D6*$Y6,$G6)+IFERROR(IF(AND($V6<=AB$1,$W6>=AB$1),INDEX(Reliability!G$23:G$50,MATCH($T6,Reliability!$C$23:$C$50,0)),0),0)*$H6*$X6*$Y6),$D6)*$R6 -> 5.4200644 | AC6: =MIN((IFERROR(IF(AND($V6<=AC$1,$W6>=AC$1),INDEX(Reliability!H$23:H$50,MATCH($S6,Reliability!$C$23:$C$50,0)),0),0)*IF($T6="n/a",$D6*$Y6,$G6)+IFERROR(IF(AND($V6<=AC$1,$W6>=AC$1),INDEX(Reliability!H$23:H$50,MATCH($T6,Reliability!$C$23:$C$50,0)),0),0)*$H6*$X6*$Y6),$D6)*$R6 -> 5.0840161 | AD6: =MIN((IFERROR(IF(AND($V6<=AD$1,$W6>=AD$1),INDEX(Reliability!I$23:I$50,MATCH($S6,Reliability!$C$23:$C$50,0)),0),0)*IF($T6="n/a",$D6*$Y6,$G6)+IFERROR(IF(AND($V6<=AD$1,$W6>=AD$1),INDEX(Reliability!I$23:I$50,MATCH($T6,Reliability!$C$23:$C$50,0)),0),0)*$H6*$X6*$Y6),$D6)*$R6 -> 4.7479679 | AE6: =MIN((IFERROR(IF(AND($V6<=AE$1,$W6>=AE$1),INDEX(Reliability!J$23:J$50,MATCH($S6,Reliability!$C$23:$C$50,0)),0),0)*IF($T6="n/a",$D6*$Y6,$G6)+IFERROR(IF(AND($V6<=AE$1,$W6>=AE$1),INDEX(Reliability!J$23:J$50,MATCH($T6,Reliability!$C$23:$C$50,0)),0),0)*$H6*$X6*$Y6),$D6)*$R6 -> 3.8739839 | AF6: =MIN((IFERROR(IF(AND($V6<=AF$1,$W6>=AF$1),INDEX(Reliability!K$23:K$50,MATCH($S6,Reliability!$C$23:$C$50,0)),0),0)*IF($T6="n/a",$D6*$Y6,$G6)+IFERROR(IF(AND($V6<=AF$1,$W6>=AF$1),INDEX(Reliability!K$23:K$50,MATCH($T6,Reliability!$C$23:$C$50,0)),0),0)*$H6*$X6*$Y6),$D6)*$R6 -> 3 | AG6: =MIN((IFERROR(IF(AND($V6<=AG$1,$W6>=AG$1),INDEX(Reliability!L$23:L$50,MATCH($S6,Reliability!$C$23:$C$50,0)),0),0)*IF($T6="n/a",$D6*$Y6,$G6)+IFERROR(IF(AND($V6<=AG$1,$W6>=AG$1),INDEX(Reliability!L$23:L$50,MATCH($T6,Reliability!$C$23:$C$50,0)),0),0)*$H6*$X6*$Y6),$D6)*$R6 -> 3.04 | ... AK6: =MIN((IFERROR(IF(AND($V6<=AK$1,$W6>=AK$1),INDEX(Reliability!P$23:P$50,MATCH($S6,Reliability!$C$23:$C$50,0)),0),0)*IF($T6="n/a",$D6*$Y6,$G6)+IFERROR(IF(AND($V6<=AK$1,$W6>=AK$1),INDEX(Reliability!P$23:P$50,MATCH($T6,Reliability!$C$23:$C$50,0)),0),0)*$H6*$X6*$Y6),$D6)*$R6 -> 3.2 | AM6: =ROUND(SUM(Z6:AK6),1) -> 47.6 | AN6: =unique_contracts!C6 -> Aquamarine Westside
